BEGIN:VCALENDAR
VERSION:2.0
PRODID:icalendar-ruby
CALSCALE:GREGORIAN
BEGIN:VEVENT
DTSTAMP:20260425T211011Z
UID:6d1e9f25-2d50-4176-8d7d-bfc553cbaf0e
DTSTART:20251118T143000
DTEND:20251118T153000
LOCATION:133 Peachtree St NE\, Suite 2900
SUMMARY:This meeting has been canceled.
URL:/about-us/events/invest-atlanta-housing-committee-urfa-housing-committe
 e-11-25
END:VEVENT
END:VCALENDAR
