BEGIN:VCALENDAR
VERSION:2.0
PRODID:icalendar-ruby
CALSCALE:GREGORIAN
BEGIN:VEVENT
DTSTAMP:20260423T165649Z
UID:afba013a-edaa-4ac2-8198-c1df98438cd9
DTSTART:20251009T140000
DTEND:20251009T153000
LOCATION:133 Peachtree St NE\, Suite 2900
SUMMARY:This meeting has been canceled.
URL:/about-us/events/invest-atlanta-tax-allocation-district-project-and-pol
 icy-review-committee-meeting-10-25
END:VEVENT
END:VCALENDAR
