BEGIN:VCALENDAR
VERSION:2.0
PRODID:icalendar-ruby
CALSCALE:GREGORIAN
BEGIN:VEVENT
DTSTAMP:20260425T185814Z
UID:aeb4cc04-eb58-4449-83fe-5e31478c847b
DTSTART:20181113T140000
DTEND:20181113T153000
LOCATION:133 PEACHTREE ST. NE\, SUITE 2900\, ATLANTA\, GA 30303
SUMMARY:Meetings of the Finance Committee will be held at Invest Atlanta fr
 om 3:00-4:30 P.M.
URL:/about-us/events/invest-atlanta-finance-committee-urfa-finance-committe
 e-dda-finance-committee-11-13-18
END:VEVENT
END:VCALENDAR
