BEGIN:VCALENDAR
VERSION:2.0
PRODID:icalendar-ruby
CALSCALE:GREGORIAN
BEGIN:VEVENT
DTSTAMP:20260423T203014Z
UID:ba520a2a-ba82-4e11-b136-51fa95a2963f
DTSTART:20250109T153000
DTEND:20250109T163000
LOCATION:133 Peachtree St NE\, Suite 2900
SUMMARY:Invest Atlanta will hold the Economic Development Committee Meeti
 ng on the second Thursday of each month. Additional details to follow.
URL:/about-us/events/invest-atlanta-economic-development-committee-meeting-
 1-25
END:VEVENT
END:VCALENDAR
