BEGIN:VCALENDAR
VERSION:2.0
PRODID:icalendar-ruby
CALSCALE:GREGORIAN
BEGIN:VEVENT
DTSTAMP:20260426T023156Z
UID:92b95ab7-a458-46bd-95fe-ea48ce19b2e2
DTSTART:20250410T153000
DTEND:20250410T163000
LOCATION:133 Peachtree St NE\, Suite 2900
SUMMARY:Invest Atlanta will hold the Economic Development Committee Meeti
 ng on the second Thursday of each month. Additional details to follow.
URL:/about-us/events/invest-atlanta-economic-development-committee-meeting-
 4-25
END:VEVENT
END:VCALENDAR
