BEGIN:VCALENDAR
VERSION:2.0
PRODID:icalendar-ruby
CALSCALE:GREGORIAN
BEGIN:VEVENT
DTSTAMP:20260423T150000Z
UID:03809563-954d-43d6-b562-006a8c0d277a
DTSTART:20250710T153000
DTEND:20250710T163000
LOCATION:133 Peachtree St NE\, Suite 2900
SUMMARY:Notice: This meeting has been cancelled.
URL:/about-us/events/invest-atlanta-economic-development-committee-meeting-
 7-25
END:VEVENT
END:VCALENDAR
