BEGIN:VCALENDAR
VERSION:2.0
PRODID:icalendar-ruby
CALSCALE:GREGORIAN
BEGIN:VEVENT
DTSTAMP:20260426T023828Z
UID:b242a112-6bc0-45ea-b0b7-4c5c08e4184e
DTSTART:20251211T153000
DTEND:20251211T163000
LOCATION:This meeting is virtual only.
SUMMARY:Invest Atlanta will hold the Economic Development Committee Meeti
 ng virtually on the second Thursday of each month. Additional details to f
 ollow.
URL:/about-us/events/invest-atlanta-economic-development-committee-meeting-
 12-25
END:VEVENT
END:VCALENDAR
