BEGIN:VCALENDAR
VERSION:2.0
PRODID:icalendar-ruby
CALSCALE:GREGORIAN
BEGIN:VEVENT
DTSTAMP:20260425T185356Z
UID:3a48a112-b4ce-4c54-9fe2-e8e9b21e0a35
DTSTART:20250315T090000
DTEND:20250315T110000
LOCATION:Bessie Branham Recreation Center\, 2051 Delano Drive\, NE Atlanta\
 , GA  30317
SUMMARY:Join Invest Atlanta and community leaders to learn about the City o
 f Atlanta Anti-Displacement Tax Relief program and receive application ins
 tructions.
URL:/about-us/events/tax-relief-fund-outreach-bessie-branham
END:VEVENT
END:VCALENDAR
