BEGIN:VCALENDAR
VERSION:2.0
PRODID:icalendar-ruby
CALSCALE:GREGORIAN
BEGIN:VEVENT
DTSTAMP:20260423T203002Z
UID:85a5d1b3-cff6-41fc-ba75-49270e8a5dde
DTSTART:20250322T090000
DTEND:20250322T110000
LOCATION:Peachtree Hills Recreation Center\, 308 Peachtree Hills Avenue\, N
 E\, Atlanta\, GA  30305
SUMMARY:Join Invest Atlanta and community leaders to learn about the City o
 f Atlanta Anti-Displacement Tax Relief program and receive application ins
 tructions.
URL:/about-us/events/tax-relief-fund-outreach-peachtree-hills
END:VEVENT
END:VCALENDAR
