BEGIN:VCALENDAR
VERSION:2.0
PRODID:icalendar-ruby
CALSCALE:GREGORIAN
BEGIN:VEVENT
DTSTAMP:20260424T090043Z
UID:a69a03bd-0485-4aa6-acdd-26fe036bc061
DTSTART:20250515T170000
DTEND:20250515T190000
LOCATION:352 University Avenue Southwest Atlanta\, GA 30310
SUMMARY:Join Invest Atlanta and Momentus Capital for an evening of networki
 ng with commercial brokers\, financing partners and property management pr
 ofessionals at Pittsburgh Yards\, an Invest Atlanta Small Business Resourc
 e Center.
URL:/about-us/events/commercial-down-payment-funding-networking-mixer
END:VEVENT
END:VCALENDAR
