BEGIN:VCALENDAR
VERSION:2.0
PRODID:icalendar-ruby
CALSCALE:GREGORIAN
BEGIN:VEVENT
DTSTAMP:20260426T023752Z
UID:f390b795-902d-4524-8d2a-d2c4f2ce2dfc
DTSTART:20250531T090000
DTEND:20250531T130000
LOCATION:1560 Metropolitan Parkway Southwest Atlanta\, GA 30310
SUMMARY:Join us for Invest Atlanta Homeownership Month Open House Tour 202
 5\, a free event designed to provide homebuyers with helpful information 
 to purchase a home in Southwest Atlanta with down payment assistance from 
 Invest Atlanta. Tour available homes for sale in the Capitol View\, Oaklan
 d City\, and Sylvan Hills neighborhoods starting from Atlanta Technical Co
 llege.
URL:/about-us/events/invest-atlanta-homeownership-month-open-house-tour-202
 5
END:VEVENT
END:VCALENDAR
