BEGIN:VCALENDAR
VERSION:2.0
PRODID:icalendar-ruby
CALSCALE:GREGORIAN
BEGIN:VEVENT
DTSTAMP:20260426T022613Z
UID:9f6da954-8818-4f12-b232-407461664ffe
DTSTART:20250624T173000
DTEND:20250624T193000
LOCATION:352 University Ave SW\, Atlanta\, GA 30310
SUMMARY:Join us for an after-hours energy efficiency mixer for small busine
 ss owners\, commercial property owners\, and developers in Atlanta!
URL:/about-us/events/atlanta-commercial-energy-efficiency-event
END:VEVENT
END:VCALENDAR
