BEGIN:VCALENDAR
VERSION:2.0
PRODID:icalendar-ruby
CALSCALE:GREGORIAN
BEGIN:VEVENT
DTSTAMP:20260426T023105Z
UID:1949c2c3-33da-4c01-94bc-b39a6380f93f
DTSTART:20250626T170000
DTEND:20250626T190000
LOCATION:1314 Chattahoochee Avenue Northwest Atlanta\, GA 30318
SUMMARY:Great things happen when good people meet!\n\n 
URL:/about-us/events/invest-atlanta-small-business-networking-mixer-saltbox
END:VEVENT
END:VCALENDAR
