BEGIN:VCALENDAR
VERSION:2.0
PRODID:icalendar-ruby
CALSCALE:GREGORIAN
BEGIN:VEVENT
DTSTAMP:20260425T225923Z
UID:8ab3e6d7-1db9-421d-ae30-12facf65c436
DTSTART:20251119T173000
DTEND:20251119T193000
LOCATION:504 Fair St SW\, Atlanta\, GA 30313
SUMMARY:Past Wisdom\, Future Vision: Sustaining Local Entrepreneurship Toge
 ther
URL:/about-us/events/the-business-blend-bridging-the-business-generations
END:VEVENT
END:VCALENDAR
