BEGIN:VCALENDAR
VERSION:2.0
PRODID:icalendar-ruby
CALSCALE:GREGORIAN
BEGIN:VEVENT
DTSTAMP:20260426T023828Z
UID:0048e302-2d52-4a5f-ad16-68949dcb615c
DTSTART:20260714T143000
DTEND:20260714T150000
LOCATION:133 Peachtree St NE\, Suite 2900
SUMMARY:Invest Atlanta will hold the Housing Committee and the URFA Housin
 g Committee Meeting on the third Tuesday of each month. Additional detai
 ls to follow.
URL:/about-us/events/invest-atlanta-housing-committee-urfa-housing-committe
 e-7-26
END:VEVENT
END:VCALENDAR
