BEGIN:VCALENDAR
VERSION:2.0
PRODID:icalendar-ruby
CALSCALE:GREGORIAN
BEGIN:VEVENT
DTSTAMP:20260425T213706Z
UID:419c8710-0815-4912-b3ef-c171ccb3d16e
DTSTART:20260616T150000
DTEND:20260616T163000
LOCATION:133 Peachtree St NE\, Suite 2900
SUMMARY:Meetings of the Finance Committee will be held at Invest Atlanta fr
 om 3:00-4:30 P.M. 
URL:/about-us/events/invest-atlanta-finance-committee-meeting-6-26
END:VEVENT
END:VCALENDAR
