BEGIN:VCALENDAR
VERSION:2.0
PRODID:icalendar-ruby
CALSCALE:GREGORIAN
BEGIN:VEVENT
DTSTAMP:20260425T171632Z
UID:cd3784ca-b6d9-4293-b5a0-0d8572a0a931
DTSTART:20260108T153000
DTEND:20260108T163000
LOCATION:This meeting is virtual only.
SUMMARY:This meeting has been cancelled.
URL:/about-us/events/invest-atlanta-economic-development-committee-meeting-
 1-26
END:VEVENT
END:VCALENDAR
