BEGIN:VCALENDAR
VERSION:2.0
PRODID:icalendar-ruby
CALSCALE:GREGORIAN
BEGIN:VEVENT
DTSTAMP:20260426T023039Z
UID:2cd50b61-8bb3-49b8-b38f-4f080a27f424
DTSTART:20260514T153000
DTEND:20260514T163000
LOCATION:This meeting is virtual only.
SUMMARY:Invest Atlanta will hold the Economic Development Committee Meeti
 ng virtually on the second Thursday of each month. Additional details to f
 ollow.
URL:/about-us/events/invest-atlanta-economic-development-committee-meeting-
 5-26
END:VEVENT
END:VCALENDAR
