BEGIN:VCALENDAR
VERSION:2.0
PRODID:icalendar-ruby
CALSCALE:GREGORIAN
BEGIN:VEVENT
DTSTAMP:20260426T023207Z
UID:f544b2f6-8e7e-4ef8-b33e-bf7c78de4c04
DTSTART:20260709T153000
DTEND:20260709T163000
LOCATION:This meeting is virtual only.
SUMMARY:Invest Atlanta will hold the Economic Development Committee Meeti
 ng virtually on the second Thursday of each month. Additional details to f
 ollow.
URL:/about-us/events/invest-atlanta-economic-development-committee-meeting-
 7-26
END:VEVENT
END:VCALENDAR
