BEGIN:VCALENDAR
VERSION:2.0
PRODID:icalendar-ruby
CALSCALE:GREGORIAN
BEGIN:VEVENT
DTSTAMP:20260423T145811Z
UID:19dd418b-8d0d-4031-b441-9700e2e97601
DTSTART:20260910T153000
DTEND:20260910T163000
LOCATION:This meeting is virtual only.
SUMMARY:Invest Atlanta will hold the Economic Development Committee Meeti
 ng virtually on the second Thursday of each month. Additional details to f
 ollow.
URL:/about-us/events/invest-atlanta-economic-development-committee-meeting-
 9-26
END:VEVENT
END:VCALENDAR
