BEGIN:VCALENDAR
VERSION:2.0
PRODID:icalendar-ruby
CALSCALE:GREGORIAN
BEGIN:VEVENT
DTSTAMP:20260426T023752Z
UID:c30410e0-90df-4b3a-9d61-fd48c342a7a0
DTSTART:20260514T140000
DTEND:20260514T153000
LOCATION:This meeting is virtual only.
SUMMARY:Invest Atlanta will hold the Tax Allocation District Project and P
 olicy Review Committee Meeting virtually on the second Thursday of each mo
 nth. Additional details to follow.
URL:/about-us/events/invest-atlanta-tax-allocation-district-project-and-pol
 icy-review-committee-meeting-5-26
END:VEVENT
END:VCALENDAR
