BEGIN:VCALENDAR
VERSION:2.0
PRODID:icalendar-ruby
CALSCALE:GREGORIAN
BEGIN:VEVENT
DTSTAMP:20260423T160309Z
UID:a41a470a-0643-4b55-a46a-9b24a96da248
DTSTART:20260219T090000
DTEND:20260219T110000
LOCATION:133 Peachtree St NE\, Suite 2200
SUMMARY:*The Invest Atlanta Boardroom has relocated to Floor 22. 
URL:/about-us/events/invest-atlanta-monthly-board-of-directors-meeting-2-26
END:VEVENT
END:VCALENDAR
