BEGIN:VCALENDAR
VERSION:2.0
PRODID:icalendar-ruby
CALSCALE:GREGORIAN
BEGIN:VEVENT
DTSTAMP:20260426T022855Z
UID:f4d6e010-c8ee-4828-8ddd-2f6527c2db75
DTSTART:20261014T170000
DTEND:20261014T190000
LOCATION:Invest Atlanta Zoom
SUMMARY:The Invest Atlanta Monthly Homebuyer Q &amp\; A webinar occurs the 
 second Wednesday of each month\, January through November.
URL:/about-us/events/invest-atlanta-homebuyer-qa-session-webinar-2610
END:VEVENT
END:VCALENDAR
