BEGIN:VCALENDAR
VERSION:2.0
PRODID:icalendar-ruby
CALSCALE:GREGORIAN
BEGIN:VEVENT
DTSTAMP:20260425T225923Z
UID:90985e13-3933-4397-85a1-e2685c602b6f
DTSTART:20260325T170000
DTEND:20260325T180000
LOCATION:
SUMMARY:Previous participants of the Anti-Displacement Tax Relief program c
 an attend this webinar detailing the steps for recertification.
URL:/about-us/events/anti-displacement-tax-relief-fund-recertification-proc
 ess-3-25-26
END:VEVENT
END:VCALENDAR
