BEGIN:VCALENDAR
VERSION:2.0
PRODID:icalendar-ruby
CALSCALE:GREGORIAN
BEGIN:VEVENT
DTSTAMP:20260426T043406Z
UID:883b3f32-6a1f-4a81-a0fa-f05cfcbd65c9
DTSTART:20190925T170000
DTEND:20190925T190000
LOCATION:133 Peachtree St NE\, Suite 2900
SUMMARY:We are sorry to say that due to scheduling conflicts the September 
 25 Small Business Loan Seminar has been canceled. If you were registered f
 or this event\, you will be eligible to attend the next session on October
  23\, 2019\, and will be automatically registered.\n\nFor additional infor
 mation\, please feel free to contact Cynthia Freeman at (404) 614-8294.\n\
 n \n\n 
URL:/about-us/events/small-business-loan-seminar-9-25-19
END:VEVENT
END:VCALENDAR
