BEGIN:VCALENDAR
VERSION:2.0
PRODID:icalendar-ruby
CALSCALE:GREGORIAN
BEGIN:VEVENT
DTSTAMP:20260424T004735Z
UID:5661f6ea-d97d-43e0-9352-35e1e5e9b253
DTSTART:20260507T170000
DTEND:20260507T190000
LOCATION:Russell Innovation Center for Entrepreneurs\, 504 Fair Street SW\,
  Atlanta\, GA
SUMMARY:Join Invest Atlanta and Showcase Atlanta for an evening of networki
 ng\, collaboration and resources for FIFA 2026 World Cup readiness.
URL:/about-us/events/access-to-capital-plywood
END:VEVENT
END:VCALENDAR
